BEGIN:VCALENDAR
VERSION:2.0
PRODID:-//Welcome Center - ECPv4.6.26//NONSGML v1.0//EN
CALSCALE:GREGORIAN
METHOD:PUBLISH
X-WR-CALNAME:Welcome Center
X-ORIGINAL-URL:http://welcomecenter.com.br
X-WR-CALDESC:Eventos para Welcome Center
BEGIN:VEVENT
DTSTART;VALUE=DATE:20190528
DTEND;VALUE=DATE:20190612
DTSTAMP:20260425T171252
CREATED:20190530T144948Z
LAST-MODIFIED:20190530T144948Z
UID:563-1559001600-1560297599@welcomecenter.com.br
SUMMARY:Exposição: O corpo feminino esculpido pelo século XIX
DESCRIPTION:
URL:http://welcomecenter.com.br/evento/exposicao-o-corpo-feminino-esculpido-pelo-seculo-xix/
ATTACH;FMTTYPE=image/jpeg:http://welcomecenter.com.br/wp-content/uploads/2019/05/exposicao-o-corpo-feminino-esculpido-pelo-seculo-xix.jpg
END:VEVENT
END:VCALENDAR