BEGIN:VCALENDAR
VERSION:2.0
PRODID:-//Welcome Center - ECPv4.6.26//NONSGML v1.0//EN
CALSCALE:GREGORIAN
METHOD:PUBLISH
X-WR-CALNAME:Welcome Center
X-ORIGINAL-URL:http://welcomecenter.com.br
X-WR-CALDESC:Eventos para Welcome Center
BEGIN:VEVENT
DTSTART;TZID=America/Sao_Paulo:20190601T120000
DTEND;TZID=America/Sao_Paulo:20190601T160000
DTSTAMP:20260425T145856
CREATED:20190529T172452Z
LAST-MODIFIED:20190529T172452Z
UID:531-1559390400-1559404800@welcomecenter.com.br
SUMMARY:Apresentação Musical - Junior Bettio
DESCRIPTION:
URL:http://welcomecenter.com.br/evento/apresentacao-musical-junior-bettio-5/
ATTACH;FMTTYPE=image/jpeg:http://welcomecenter.com.br/wp-content/uploads/2019/05/job_3218_eventos-musicais-junho01-site.jpg
END:VEVENT
END:VCALENDAR