BEGIN:VCALENDAR
VERSION:2.0
PRODID:-//Welcome Center - ECPv4.6.26//NONSGML v1.0//EN
CALSCALE:GREGORIAN
METHOD:PUBLISH
X-WR-CALNAME:Welcome Center
X-ORIGINAL-URL:http://welcomecenter.com.br
X-WR-CALDESC:Eventos para Welcome Center
BEGIN:VEVENT
DTSTART;TZID=America/Sao_Paulo:20190707T120000
DTEND;TZID=America/Sao_Paulo:20190707T160000
DTSTAMP:20260426T042028
CREATED:20190705T143707Z
LAST-MODIFIED:20190705T144119Z
UID:596-1562500800-1562515200@welcomecenter.com.br
SUMMARY:Apresentação Musical - Douglas Reis
DESCRIPTION:
URL:http://welcomecenter.com.br/evento/apresentacao-musical-douglas-reis-7/
ATTACH;FMTTYPE=image/jpeg:http://welcomecenter.com.br/wp-content/uploads/2019/07/apresentacao-musical-douglas-reis-1.jpg
END:VEVENT
END:VCALENDAR